BEGIN:VCALENDAR
VERSION:2.0
PRODID:-//Cathedral 7-12 High School - ECPv6.15.20//NONSGML v1.0//EN
CALSCALE:GREGORIAN
METHOD:PUBLISH
X-WR-CALNAME:Cathedral 7-12 High School
X-ORIGINAL-URL:https://www.cathedralboston.org
X-WR-CALDESC:Events for Cathedral 7-12 High School
REFRESH-INTERVAL;VALUE=DURATION:PT1H
X-Robots-Tag:noindex
X-PUBLISHED-TTL:PT1H
BEGIN:VTIMEZONE
TZID:America/New_York
BEGIN:DAYLIGHT
TZOFFSETFROM:-0500
TZOFFSETTO:-0400
TZNAME:EDT
DTSTART:20250309T070000
END:DAYLIGHT
BEGIN:STANDARD
TZOFFSETFROM:-0400
TZOFFSETTO:-0500
TZNAME:EST
DTSTART:20251102T060000
END:STANDARD
BEGIN:DAYLIGHT
TZOFFSETFROM:-0500
TZOFFSETTO:-0400
TZNAME:EDT
DTSTART:20260308T070000
END:DAYLIGHT
BEGIN:STANDARD
TZOFFSETFROM:-0400
TZOFFSETTO:-0500
TZNAME:EST
DTSTART:20261101T060000
END:STANDARD
BEGIN:DAYLIGHT
TZOFFSETFROM:-0500
TZOFFSETTO:-0400
TZNAME:EDT
DTSTART:20270314T070000
END:DAYLIGHT
BEGIN:STANDARD
TZOFFSETFROM:-0400
TZOFFSETTO:-0500
TZNAME:EST
DTSTART:20271107T060000
END:STANDARD
END:VTIMEZONE
BEGIN:VEVENT
DTSTART;VALUE=DATE:20260604
DTEND;VALUE=DATE:20260605
DTSTAMP:20260424T115831
CREATED:20250904T175542Z
LAST-MODIFIED:20260126T175827Z
UID:10000161-1780531200-1780617599@www.cathedralboston.org
SUMMARY:Grade 7-8 Project Presentations & Grade 8 Step Up Ceremony
DESCRIPTION:
URL:https://www.cathedralboston.org/event/grade-8-step-up-ceremony-2/
CATEGORIES:Home Spotlight,Students
END:VEVENT
BEGIN:VEVENT
DTSTART;TZID=America/New_York:20260605T180000
DTEND;TZID=America/New_York:20260605T200000
DTSTAMP:20260424T115831
CREATED:20260424T150458Z
LAST-MODIFIED:20260424T150458Z
UID:10000176-1780682400-1780689600@www.cathedralboston.org
SUMMARY:Cathedral Creates SOWA Art Gallery First Friday Reception
DESCRIPTION:Located at Laconia Gallery in the South End \nView student and alumni artwork
URL:https://www.cathedralboston.org/event/cathedral-creates-sowa-art-gallery-first-friday-reception/
CATEGORIES:Alumni,Home Spotlight,Students
END:VEVENT
BEGIN:VEVENT
DTSTART;VALUE=DATE:20260608
DTEND;VALUE=DATE:20260609
DTSTAMP:20260424T115831
CREATED:20260313T125737Z
LAST-MODIFIED:20260313T125854Z
UID:10000169-1780876800-1780963199@www.cathedralboston.org
SUMMARY:AASF Golf Tournament - 25th Anniversary!
DESCRIPTION:Join us on Monday\, June 8\, for the 25th Annual Adopt-A-Student Foundation Golf Tournament! \nLearn more here.
URL:https://www.cathedralboston.org/event/aasf-golf-tournament-25th-anniversary/
CATEGORIES:Alumni,Home Spotlight,Support CHS
END:VEVENT
BEGIN:VEVENT
DTSTART;VALUE=DATE:20260619
DTEND;VALUE=DATE:20260620
DTSTAMP:20260424T115831
CREATED:20250904T175628Z
LAST-MODIFIED:20250904T175628Z
UID:10000162-1781827200-1781913599@www.cathedralboston.org
SUMMARY:Juneteenth
DESCRIPTION:
URL:https://www.cathedralboston.org/event/juneteenth-2/
CATEGORIES:Home Spotlight,Students
END:VEVENT
END:VCALENDAR